BEGIN:VCALENDAR
VERSION:2.0
PRODID:-//ExhibitionMatches.com//NONSGML v1.0//EN
BEGIN:VEVENT
UID=455FA7C1-C24C-9A95-7F00E8F8777EFDCB
DTSTAMP=20260423T063919Z
DTSTART;VALUE=DATE:20260426
DTEND;VALUE=DATE:20260427
SUMMARY:Northeast regional team duals
LOCATION:University Of Southern Maine, 37 College Avenue, Gorham, ME
DESCRIPTION:View full event details: https://wrestlingtournaments.org/view.cfm?ID=107150
Contact: Shawn St. Cyr stcyr.sm@gmail.com
URL;VALUE=URI:https://wrestlingtournaments.org/view.cfm?ID=107150
END:VEVENT
END:VCALENDAR