BEGIN:VCALENDAR
VERSION:2.0
PRODID:-//ExhibitionMatches.com//NONSGML v1.0//EN
BEGIN:VEVENT
UID=45290F45-E8A3-7B1C-11CEB9F62A32CA3A
DTSTAMP=20260423T063322Z
DTSTART;VALUE=DATE:20260426
DTEND;VALUE=DATE:20260427
SUMMARY:Maine USAW FS Developmental
LOCATION:University Of Southern Maine, 37 College Avenue, Gorham, ME
DESCRIPTION:View full event details: https://wrestlingtournaments.org/view.cfm?ID=107149
Contact: Shawn St. Cyr stcyr.sm@gmail.com
URL;VALUE=URI:https://wrestlingtournaments.org/view.cfm?ID=107149
END:VEVENT
END:VCALENDAR